BEGIN:VCALENDAR
VERSION:2.0
PRODID:-//Getting Results Inc | Financial Advisor Coaching - ECPv6.15.20//NONSGML v1.0//EN
CALSCALE:GREGORIAN
METHOD:PUBLISH
X-WR-CALNAME:Getting Results Inc | Financial Advisor Coaching
X-ORIGINAL-URL:https://gettingresultsinc.com
X-WR-CALDESC:Events for Getting Results Inc | Financial Advisor Coaching
REFRESH-INTERVAL;VALUE=DURATION:PT1H
X-Robots-Tag:noindex
X-PUBLISHED-TTL:PT1H
BEGIN:VTIMEZONE
TZID:UTC
BEGIN:STANDARD
TZOFFSETFROM:+0000
TZOFFSETTO:+0000
TZNAME:UTC
DTSTART:20230101T000000
END:STANDARD
END:VTIMEZONE
BEGIN:VEVENT
DTSTART;VALUE=DATE:20240222
DTEND;VALUE=DATE:20240225
DTSTAMP:20260425T130555
CREATED:20231204T181651Z
LAST-MODIFIED:20231204T181651Z
UID:1693-1708578000-1708750799@gettingresultsinc.com
SUMMARY:Peerage
DESCRIPTION:
URL:https://gettingresultsinc.com/event/peerage/
LOCATION:TBD\, FL\, United States
CATEGORIES:Peerage
ATTACH;FMTTYPE=image/jpeg:https://gettingresultsinc.com/wp-content/uploads/2023/12/2024-Peerage-Flyer.jpg
END:VEVENT
END:VCALENDAR